BEGIN:VCALENDAR
VERSION:2.0
PRODID:-//Humane Animal Rescue - ECPv6.15.20//NONSGML v1.0//EN
CALSCALE:GREGORIAN
METHOD:PUBLISH
X-WR-CALNAME:Humane Animal Rescue
X-ORIGINAL-URL:https://humaneanimalrescue.org
X-WR-CALDESC:Events for Humane Animal Rescue
REFRESH-INTERVAL;VALUE=DURATION:PT1H
X-Robots-Tag:noindex
X-PUBLISHED-TTL:PT1H
BEGIN:VTIMEZONE
TZID:UTC
BEGIN:STANDARD
TZOFFSETFROM:+0000
TZOFFSETTO:+0000
TZNAME:UTC
DTSTART:20210101T000000
END:STANDARD
END:VTIMEZONE
BEGIN:VEVENT
DTSTART;TZID=UTC:20221001T110000
DTEND;TZID=UTC:20221001T130000
DTSTAMP:20260424T005319
CREATED:20220914T194217Z
LAST-MODIFIED:20220914T194217Z
UID:10000266-1664622000-1664629200@humaneanimalrescue.org
SUMMARY:Adoption Saturday at Unity Presbyterian Church
DESCRIPTION:Mark your calendar for Humane Animal Rescue of Pittsburgh’s Adoption Saturday in partnership with Creatures of The Creator Pet Ministry of Unity Presbyterian Church. \nThe fun-filled afternoon offers an opportunity to learn more about Humane Animal Rescue of Pittsburgh\, and all of our programs and services. Best of all\, it’s an opportunity to meet the many animals available for adoption. Currently\, HARP has an abundance of animals in its care. \nThe adoption team at HARP works to make the best possible match\, learning more about adopters and sharing information about available animals. All animals are spayed or neutered\, microchipped\, given vaccinations appropriate for their age at the time of adoption\, and given flea/tick protection. Go to humaneanimalrescue.org/adopt to view all the animals currently available for adoption.
URL:https://humaneanimalrescue.org/event/adoption-saturday-at-unity-presbyterian-church/
LOCATION:1146 Greentree Rd\, Pittsburgh\, PA 15220\, 1146 Greentree Rd\, Pittsburgh\, PA\, 15220\, United States
CATEGORIES:Adoption,Programming
ATTACH;FMTTYPE=image/jpeg:https://humaneanimalrescue.org/wp-content/uploads/2022/09/HARP_AdoptionSaturday-scaled.jpg
ORGANIZER;CN="Humane Animal Rescue of Pittsburgh":MAILTO:contact@humaneanimalrescue.org
END:VEVENT
END:VCALENDAR