BEGIN:VCALENDAR
VERSION:2.0
PRODID:-//Humane Animal Rescue - ECPv6.15.20//NONSGML v1.0//EN
CALSCALE:GREGORIAN
METHOD:PUBLISH
X-ORIGINAL-URL:https://humaneanimalrescue.org
X-WR-CALDESC:Events for Humane Animal Rescue
REFRESH-INTERVAL;VALUE=DURATION:PT1H
X-Robots-Tag:noindex
X-PUBLISHED-TTL:PT1H
BEGIN:VTIMEZONE
TZID:America/New_York
BEGIN:DAYLIGHT
TZOFFSETFROM:-0500
TZOFFSETTO:-0400
TZNAME:EDT
DTSTART:20210314T070000
END:DAYLIGHT
BEGIN:STANDARD
TZOFFSETFROM:-0400
TZOFFSETTO:-0500
TZNAME:EST
DTSTART:20211107T060000
END:STANDARD
BEGIN:DAYLIGHT
TZOFFSETFROM:-0500
TZOFFSETTO:-0400
TZNAME:EDT
DTSTART:20220313T070000
END:DAYLIGHT
BEGIN:STANDARD
TZOFFSETFROM:-0400
TZOFFSETTO:-0500
TZNAME:EST
DTSTART:20221106T060000
END:STANDARD
BEGIN:DAYLIGHT
TZOFFSETFROM:-0500
TZOFFSETTO:-0400
TZNAME:EDT
DTSTART:20230312T070000
END:DAYLIGHT
BEGIN:STANDARD
TZOFFSETFROM:-0400
TZOFFSETTO:-0500
TZNAME:EST
DTSTART:20231105T060000
END:STANDARD
BEGIN:DAYLIGHT
TZOFFSETFROM:-0500
TZOFFSETTO:-0400
TZNAME:EDT
DTSTART:20240310T070000
END:DAYLIGHT
BEGIN:STANDARD
TZOFFSETFROM:-0400
TZOFFSETTO:-0500
TZNAME:EST
DTSTART:20241103T060000
END:STANDARD
BEGIN:DAYLIGHT
TZOFFSETFROM:-0500
TZOFFSETTO:-0400
TZNAME:EDT
DTSTART:20250309T070000
END:DAYLIGHT
BEGIN:STANDARD
TZOFFSETFROM:-0400
TZOFFSETTO:-0500
TZNAME:EST
DTSTART:20251102T060000
END:STANDARD
END:VTIMEZONE
BEGIN:VEVENT
DTSTART;TZID=America/New_York:20240228T090000
DTEND;TZID=America/New_York:20240228T120000
DTSTAMP:20260423T074313
CREATED:20240111T153151Z
LAST-MODIFIED:20240111T153151Z
UID:10000385-1709110800-1709121600@humaneanimalrescue.org
SUMMARY:Ellie's Pet Pantry | North Side Shelter
DESCRIPTION:Please Notice: You may only attend ONE Pet Pantry per month. If you pick up food on Feb. 14\, you cannot pick up more food on Feb. 28.  \nIf you can’t afford to feed your pet and need assistance\, Humane Animal Rescue of Pittsburgh may be able to help. Ellie’s Pet Pantry helps individual pet owners who need temporary relief in the form of food for their companion animals. Please reach out to our support team to learn more\, get help\, or to sign up for the next food pickup. 412.345.7300 x290 \nTo qualify\, you must be at least 18 years of age\, your pets must be spayed/neutered (we can help with this! Ask about free spay/neuter programs.)\, your pets are kept inside of the home\, and must be maintained in healthy living conditions. \nHow it Works:\n\nTo apply for assistance\, fill out this application before your first food pickup: Apply Here\nPut the last Wednesday of the month on your calendar! (*Dates subject to change based on resource/staff availability and major holidays.)\nCall us at 412.345.7300 x290 with any questions\nPick up food at your assigned time and location\nWe are generally unable to provide food outside the monthly pickup times\, so it’s important to be there at your assigned time. Otherwise\, you may have to wait until the following month.\n\nThe Fine Print:\nYou are not permitted to adopt from the shelter or obtain a pet from another source while receiving assistance from Ellie’s Pet Pantry. Humane Animal Rescue of Pittsburgh has the right to terminate assistance if you obtain another pet at any time. \nEllie’s food and supplies are donated and may not be the current brand or type you are feeding your pets. While we try to accommodate special requests\, it may not always be possible. Please note: a change in your pet’s food may cause intestinal discomfort for your pet. \nYou may not resell\, distribute\, or attempt to return to a store for cash any of the items received from Ellie’s Pet Pantry. \nAny violations of any of the above eligibility requirements may result in Humane Animal Rescue of Pittsburgh terminating assistance immediately and without notice.
URL:https://humaneanimalrescue.org/event/ellies-pet-pantry-north-side-shelter-2/2024-02-28/
LOCATION:North Side\, 1101 Western Ave\, Pittsburgh\, PA\, 15233\, United States
CATEGORIES:Ellie's Pet Pantry
ATTACH;FMTTYPE=image/png:https://humaneanimalrescue.org/wp-content/uploads/2023/11/Website-event-template.png
ORGANIZER;CN="Humane Animal Rescue of Pittsburgh":MAILTO:contact@humaneanimalrescue.org
END:VEVENT
BEGIN:VEVENT
DTSTART;TZID=America/New_York:20240228T090000
DTEND;TZID=America/New_York:20240228T110000
DTSTAMP:20260423T074313
CREATED:20240111T152202Z
LAST-MODIFIED:20240111T152220Z
UID:10000382-1709110800-1709118000@humaneanimalrescue.org
SUMMARY:Ellie's Pet Pantry | East Side Shelter
DESCRIPTION:If you can’t afford to feed your pet and need assistance\, Humane Animal Rescue of Pittsburgh may be able to help. Ellie’s Pet Pantry helps individual pet owners who need temporary relief in the form of food for their companion animals. Please reach out to our support team to learn more\, get help\, or to sign up for the next food pickup. 412.345.7300 x290 \nTo qualify\, you must be at least 18 years of age\, your pets must be spayed/neutered (we can help with this! Ask about free spay/neuter programs.)\, your pets are kept inside of the home\, and must be maintained in healthy living conditions. \nHow it Works:\n\nTo apply for assistance\, fill out this application before your first food pickup: Apply Here\nPut the last Wednesday of the month on your calendar! (*Dates subject to change based on resource/staff availability and major holidays.)\nCall us at 412.345.7300 x290 with any questions\nPick up food at your assigned time and location\nWe are generally unable to provide food outside the monthly pickup times\, so it’s important to be there at your assigned time. Otherwise\, you may have to wait until the following month.\n\nThe Fine Print:\nYou are not permitted to adopt from the shelter or obtain a pet from another source while receiving assistance from Ellie’s Pet Pantry. Humane Animal Rescue of Pittsburgh has the right to terminate assistance if you obtain another pet at any time. \nEllie’s food and supplies are donated and may not be the current brand or type you are feeding your pets. While we try to accommodate special requests\, it may not always be possible. Please note: a change in your pet’s food may cause intestinal discomfort for your pet. \nYou may not resell\, distribute\, or attempt to return to a store for cash any of the items received from Ellie’s Pet Pantry. \nAny violations of any of the above eligibility requirements may result in Humane Animal Rescue of Pittsburgh terminating assistance immediately and without notice.
URL:https://humaneanimalrescue.org/event/ellies-pet-pantry-east-side-shelter/2024-02-28/
LOCATION:East Side\, 6926 Hamilton Avenue\, Pittsburgh\, 15208\, United States
CATEGORIES:Ellie's Pet Pantry
ATTACH;FMTTYPE=image/png:https://humaneanimalrescue.org/wp-content/uploads/2023/11/Website-event-template.png
ORGANIZER;CN="Humane Animal Rescue of Pittsburgh":MAILTO:contact@humaneanimalrescue.org
END:VEVENT
BEGIN:VEVENT
DTSTART;TZID=America/New_York:20240214T090000
DTEND;TZID=America/New_York:20240214T120000
DTSTAMP:20260423T074313
CREATED:20240111T153151Z
LAST-MODIFIED:20240111T153151Z
UID:10000384-1707901200-1707912000@humaneanimalrescue.org
SUMMARY:Ellie's Pet Pantry | North Side Shelter
DESCRIPTION:Please Notice: You may only attend ONE Pet Pantry per month. If you pick up food on Feb. 14\, you cannot pick up more food on Feb. 28.  \nIf you can’t afford to feed your pet and need assistance\, Humane Animal Rescue of Pittsburgh may be able to help. Ellie’s Pet Pantry helps individual pet owners who need temporary relief in the form of food for their companion animals. Please reach out to our support team to learn more\, get help\, or to sign up for the next food pickup. 412.345.7300 x290 \nTo qualify\, you must be at least 18 years of age\, your pets must be spayed/neutered (we can help with this! Ask about free spay/neuter programs.)\, your pets are kept inside of the home\, and must be maintained in healthy living conditions. \nHow it Works:\n\nTo apply for assistance\, fill out this application before your first food pickup: Apply Here\nPut the last Wednesday of the month on your calendar! (*Dates subject to change based on resource/staff availability and major holidays.)\nCall us at 412.345.7300 x290 with any questions\nPick up food at your assigned time and location\nWe are generally unable to provide food outside the monthly pickup times\, so it’s important to be there at your assigned time. Otherwise\, you may have to wait until the following month.\n\nThe Fine Print:\nYou are not permitted to adopt from the shelter or obtain a pet from another source while receiving assistance from Ellie’s Pet Pantry. Humane Animal Rescue of Pittsburgh has the right to terminate assistance if you obtain another pet at any time. \nEllie’s food and supplies are donated and may not be the current brand or type you are feeding your pets. While we try to accommodate special requests\, it may not always be possible. Please note: a change in your pet’s food may cause intestinal discomfort for your pet. \nYou may not resell\, distribute\, or attempt to return to a store for cash any of the items received from Ellie’s Pet Pantry. \nAny violations of any of the above eligibility requirements may result in Humane Animal Rescue of Pittsburgh terminating assistance immediately and without notice.
URL:https://humaneanimalrescue.org/event/ellies-pet-pantry-north-side-shelter-2/2024-02-14/
LOCATION:North Side\, 1101 Western Ave\, Pittsburgh\, PA\, 15233\, United States
CATEGORIES:Ellie's Pet Pantry
ATTACH;FMTTYPE=image/png:https://humaneanimalrescue.org/wp-content/uploads/2023/11/Website-event-template.png
ORGANIZER;CN="Humane Animal Rescue of Pittsburgh":MAILTO:contact@humaneanimalrescue.org
END:VEVENT
BEGIN:VEVENT
DTSTART;TZID=America/New_York:20240131T090000
DTEND;TZID=America/New_York:20240131T120000
DTSTAMP:20260423T074313
CREATED:20240111T152708Z
LAST-MODIFIED:20240111T152708Z
UID:10000383-1706691600-1706702400@humaneanimalrescue.org
SUMMARY:Ellie's Pet Pantry | North Side Shelter
DESCRIPTION:If you can’t afford to feed your pet and need assistance\, Humane Animal Rescue of Pittsburgh may be able to help. Ellie’s Pet Pantry helps individual pet owners who need temporary relief in the form of food for their companion animals. Please reach out to our support team to learn more\, get help\, or to sign up for the next food pickup. 412.345.7300 x290 \nTo qualify\, you must be at least 18 years of age\, your pets must be spayed/neutered (we can help with this! Ask about free spay/neuter programs.)\, your pets are kept inside of the home\, and must be maintained in healthy living conditions. \nHow it Works:\n\nTo apply for assistance\, fill out this application before your first food pickup: Apply Here\nPut the last Wednesday of the month on your calendar! (*Dates subject to change based on resource/staff availability and major holidays.)\nCall us at 412.345.7300 x290 with any questions\nPick up food at your assigned time and location\nWe are generally unable to provide food outside the monthly pickup times\, so it’s important to be there at your assigned time. Otherwise\, you may have to wait until the following month.\n\nThe Fine Print:\nYou are not permitted to adopt from the shelter or obtain a pet from another source while receiving assistance from Ellie’s Pet Pantry. Humane Animal Rescue of Pittsburgh has the right to terminate assistance if you obtain another pet at any time. \nEllie’s food and supplies are donated and may not be the current brand or type you are feeding your pets. While we try to accommodate special requests\, it may not always be possible. Please note: a change in your pet’s food may cause intestinal discomfort for your pet. \nYou may not resell\, distribute\, or attempt to return to a store for cash any of the items received from Ellie’s Pet Pantry. \nAny violations of any of the above eligibility requirements may result in Humane Animal Rescue of Pittsburgh terminating assistance immediately and without notice.
URL:https://humaneanimalrescue.org/event/ellies-pet-pantry-north-side-shelter/
LOCATION:North Side\, 1101 Western Ave\, Pittsburgh\, PA\, 15233\, United States
CATEGORIES:Ellie's Pet Pantry
ATTACH;FMTTYPE=image/png:https://humaneanimalrescue.org/wp-content/uploads/2023/11/Website-event-template.png
ORGANIZER;CN="Humane Animal Rescue of Pittsburgh":MAILTO:contact@humaneanimalrescue.org
END:VEVENT
BEGIN:VEVENT
DTSTART;TZID=America/New_York:20240131T090000
DTEND;TZID=America/New_York:20240131T110000
DTSTAMP:20260423T074313
CREATED:20240111T152202Z
LAST-MODIFIED:20240111T152220Z
UID:10000381-1706691600-1706698800@humaneanimalrescue.org
SUMMARY:Ellie's Pet Pantry | East Side Shelter
DESCRIPTION:If you can’t afford to feed your pet and need assistance\, Humane Animal Rescue of Pittsburgh may be able to help. Ellie’s Pet Pantry helps individual pet owners who need temporary relief in the form of food for their companion animals. Please reach out to our support team to learn more\, get help\, or to sign up for the next food pickup. 412.345.7300 x290 \nTo qualify\, you must be at least 18 years of age\, your pets must be spayed/neutered (we can help with this! Ask about free spay/neuter programs.)\, your pets are kept inside of the home\, and must be maintained in healthy living conditions. \nHow it Works:\n\nTo apply for assistance\, fill out this application before your first food pickup: Apply Here\nPut the last Wednesday of the month on your calendar! (*Dates subject to change based on resource/staff availability and major holidays.)\nCall us at 412.345.7300 x290 with any questions\nPick up food at your assigned time and location\nWe are generally unable to provide food outside the monthly pickup times\, so it’s important to be there at your assigned time. Otherwise\, you may have to wait until the following month.\n\nThe Fine Print:\nYou are not permitted to adopt from the shelter or obtain a pet from another source while receiving assistance from Ellie’s Pet Pantry. Humane Animal Rescue of Pittsburgh has the right to terminate assistance if you obtain another pet at any time. \nEllie’s food and supplies are donated and may not be the current brand or type you are feeding your pets. While we try to accommodate special requests\, it may not always be possible. Please note: a change in your pet’s food may cause intestinal discomfort for your pet. \nYou may not resell\, distribute\, or attempt to return to a store for cash any of the items received from Ellie’s Pet Pantry. \nAny violations of any of the above eligibility requirements may result in Humane Animal Rescue of Pittsburgh terminating assistance immediately and without notice.
URL:https://humaneanimalrescue.org/event/ellies-pet-pantry-east-side-shelter/2024-01-31/
LOCATION:East Side\, 6926 Hamilton Avenue\, Pittsburgh\, 15208\, United States
CATEGORIES:Ellie's Pet Pantry
ATTACH;FMTTYPE=image/png:https://humaneanimalrescue.org/wp-content/uploads/2023/11/Website-event-template.png
ORGANIZER;CN="Humane Animal Rescue of Pittsburgh":MAILTO:contact@humaneanimalrescue.org
END:VEVENT
BEGIN:VEVENT
DTSTART;TZID=America/New_York:20220516T100000
DTEND;TZID=America/New_York:20220516T130000
DTSTAMP:20260423T074313
CREATED:20220503T184716Z
LAST-MODIFIED:20220503T184902Z
UID:10000191-1652695200-1652706000@humaneanimalrescue.org
SUMMARY:Ellie’s Pet Pantry – Dog Food Distribution 5/16
DESCRIPTION:Humane Animal Rescue of Pittsburgh (HARP) will host a special  dog food distribution event to make sure that no dog goes hungry. Owners in need can drive up to the East Side Campus (6926 Hamilton Avenue Pittsburgh\, PA 15208) on Monday\, May 16 from 10 a.m. to 1 p.m. where staff will then load each vehicle with free dog food.\n\nIf pet owners are facing difficulties in providing for their pets\, HARP is committed to helping keep pets in loving homes and has resources available. Through our pet retention programs\, families who are experiencing difficult times are given assistance to avoid the further heartbreak of losing their beloved pet. Making sure that no pet goes hungry\, Ellie’s Pet Pantry supplies community members with food and basic supplies for their pets\, assisting those who are experiencing financial insecurity and struggling.\n\nIn 2021\, Ellie’s Food Pantry provided over 72\,000 pounds of food through regularly scheduled and emergency distributions.\nFor more information about assistance or to learn how you can support Ellie’s Pet Pantry\, go to humaneanimalrescue.org/programs-services/ellies-pet-pantry/
URL:https://humaneanimalrescue.org/event/ellies-5-16/
LOCATION:East Side\, 6926 Hamilton Avenue\, Pittsburgh\, 15208\, United States
CATEGORIES:Ellie's Pet Pantry,Programming
ATTACH;FMTTYPE=image/jpeg:https://humaneanimalrescue.org/wp-content/uploads/2022/02/HARP_Distro_Banner_2_22.jpg
ORGANIZER;CN="Humane Animal Rescue of Pittsburgh":MAILTO:contact@humaneanimalrescue.org
END:VEVENT
BEGIN:VEVENT
DTSTART;TZID=America/New_York:20220214T100000
DTEND;TZID=America/New_York:20220214T130000
DTSTAMP:20260423T074313
CREATED:20220203T202442Z
LAST-MODIFIED:20220204T144253Z
UID:10000245-1644832800-1644843600@humaneanimalrescue.org
SUMMARY:Ellie’s Pet Pantry – Dog Food Distribution 2/14
DESCRIPTION:To help “spread the love” this Valentine’s Day\, Humane Animal Rescue of Pittsburgh (HARP) will host a special “Hearts and Paws” dog food distribution event to make sure that no dog goes hungry. Owners in need can drive up to the North Side Campus (1101 Western Avenue\, Pittsburgh PA 15233) on Monday\, February 14 from 10 a.m. to 1 p.m. where staff will then load each vehicle with free dog food.\n\nIf pet owners are facing difficulties in providing for their pets\, HARP is committed to helping keep pets in loving homes and has resources available. Through our pet retention programs\, families who are experiencing difficult times are given assistance to avoid the further heartbreak of losing their beloved pet. Making sure that no pet goes hungry\, Ellie’s Pet Pantry supplies community members with food and basic supplies for their pets\, assisting those who are experiencing financial insecurity and struggling.\nIn 2021\, Ellie’s Food Pantry provided over 72\,000 pounds of food through regularly scheduled and emergency distributions.\nFor more information about assistance or to learn how you can support Ellie’s Pet Pantry\, go to humaneanimalrescue.org/programs-services/ellies-pet-pantry/
URL:https://humaneanimalrescue.org/event/ellies-pet-pantry-dog-food-distribution-2-14/
LOCATION:North Side\, 1101 Western Ave\, Pittsburgh\, PA\, 15233\, United States
CATEGORIES:Ellie's Pet Pantry
ATTACH;FMTTYPE=image/jpeg:https://humaneanimalrescue.org/wp-content/uploads/2022/02/HARP_Distro_Banner_2_22.jpg
ORGANIZER;CN="Humane Animal Rescue of Pittsburgh":MAILTO:contact@humaneanimalrescue.org
END:VEVENT
END:VCALENDAR